BEGIN:VCALENDAR
VERSION:2.0
PRODID:-//St Anne&#039;s House - ECPv6.15.20//NONSGML v1.0//EN
CALSCALE:GREGORIAN
METHOD:PUBLISH
X-WR-CALNAME:St Anne&#039;s House
X-ORIGINAL-URL:https://stanneshouse.org
X-WR-CALDESC:Events for St Anne&#039;s House
REFRESH-INTERVAL;VALUE=DURATION:PT1H
X-Robots-Tag:noindex
X-PUBLISHED-TTL:PT1H
BEGIN:VTIMEZONE
TZID:Europe/London
BEGIN:DAYLIGHT
TZOFFSETFROM:+0000
TZOFFSETTO:+0100
TZNAME:BST
DTSTART:20220327T010000
END:DAYLIGHT
BEGIN:STANDARD
TZOFFSETFROM:+0100
TZOFFSETTO:+0000
TZNAME:GMT
DTSTART:20221030T010000
END:STANDARD
BEGIN:DAYLIGHT
TZOFFSETFROM:+0000
TZOFFSETTO:+0100
TZNAME:BST
DTSTART:20230326T010000
END:DAYLIGHT
BEGIN:STANDARD
TZOFFSETFROM:+0100
TZOFFSETTO:+0000
TZNAME:GMT
DTSTART:20231029T010000
END:STANDARD
BEGIN:DAYLIGHT
TZOFFSETFROM:+0000
TZOFFSETTO:+0100
TZNAME:BST
DTSTART:20240331T010000
END:DAYLIGHT
BEGIN:STANDARD
TZOFFSETFROM:+0100
TZOFFSETTO:+0000
TZNAME:GMT
DTSTART:20241027T010000
END:STANDARD
END:VTIMEZONE
BEGIN:VEVENT
DTSTART;TZID=Europe/London:20230816T103000
DTEND;TZID=Europe/London:20230816T143000
DTSTAMP:20260419T220644
CREATED:20230801T112922Z
LAST-MODIFIED:20230804T113724Z
UID:10003979-1692181800-1692196200@stanneshouse.org
SUMMARY:Songwriting & Music
DESCRIPTION:Creative sessions running through the holidays for young people in receipt of free school meals.    \nWednesday 16 August: 10.30am – 2.30pm:\nSongwriting & music creative session for 13 – 16 year olds with Kathleen Fitzpatrick Milton:\nTaking inspiration from the musical artists you love and the world around you we will be learning how to develop lyrics and melodies and find your own artistic voice. Whether you are into rap\, singing\, playing an instrument or just want to try a hand at writing why not give it a go. No experience needed!  \nIf you have any instruments bring them along – but we will provide some too!\nAttendees can join in all the sessions\, or come along to as many as they’d like for their age group. \nBooking is essential\, please book through tinyurl.com/SAHCreative\nWe look forward to exploring creativity with you this summer! Any questions please call: 07718 106953 or email youth@bricksbristol.org
URL:https://stanneshouse.org/whats-on/songwriting-music-for-13-16-year-olds-with-kathleen-fitzpatrick-milton/
LOCATION:St Anne’s House\, St Anne's House\, Bristol\, BS4 4AB\, United Kingdom
CATEGORIES:Young People
ATTACH;FMTTYPE=image/png:https://stanneshouse.org/wp-content/uploads/2023/08/Kathleen-01.png
END:VEVENT
END:VCALENDAR