BEGIN:VCALENDAR
VERSION:2.0
PRODID:-//St Anne&#039;s House - ECPv6.15.20//NONSGML v1.0//EN
CALSCALE:GREGORIAN
METHOD:PUBLISH
X-ORIGINAL-URL:https://stanneshouse.org
X-WR-CALDESC:Events for St Anne&#039;s House
REFRESH-INTERVAL;VALUE=DURATION:PT1H
X-Robots-Tag:noindex
X-PUBLISHED-TTL:PT1H
BEGIN:VTIMEZONE
TZID:Europe/London
BEGIN:DAYLIGHT
TZOFFSETFROM:+0000
TZOFFSETTO:+0100
TZNAME:BST
DTSTART:20220327T010000
END:DAYLIGHT
BEGIN:STANDARD
TZOFFSETFROM:+0100
TZOFFSETTO:+0000
TZNAME:GMT
DTSTART:20221030T010000
END:STANDARD
BEGIN:DAYLIGHT
TZOFFSETFROM:+0000
TZOFFSETTO:+0100
TZNAME:BST
DTSTART:20230326T010000
END:DAYLIGHT
BEGIN:STANDARD
TZOFFSETFROM:+0100
TZOFFSETTO:+0000
TZNAME:GMT
DTSTART:20231029T010000
END:STANDARD
BEGIN:DAYLIGHT
TZOFFSETFROM:+0000
TZOFFSETTO:+0100
TZNAME:BST
DTSTART:20240331T010000
END:DAYLIGHT
BEGIN:STANDARD
TZOFFSETFROM:+0100
TZOFFSETTO:+0000
TZNAME:GMT
DTSTART:20241027T010000
END:STANDARD
END:VTIMEZONE
BEGIN:VEVENT
DTSTART;TZID=Europe/London:20230809T103000
DTEND;TZID=Europe/London:20230809T143000
DTSTAMP:20260419T232031
CREATED:20230801T101658Z
LAST-MODIFIED:20230804T113453Z
UID:10003976-1691577000-1691591400@stanneshouse.org
SUMMARY:Storytelling from Collage
DESCRIPTION:Creative sessions running through the holidays for young people in receipt of free school meals.    \nWednesday 09 August: 10.30am – 2.30pm:\nStorytelling from collage creative session for 13 – 16 year olds with Eli Lower:\nWe’ll be exploring how we can create our own stories\, comics and poems using things we cut and stick together! \nNo experience needed\, welcome to all aged 13 – 16 year olds.\nAttendees can join in all the sessions\, or come along to as many as they’d like for their age group.\nBooking is essential\, please book through tinyurl.com/SAHCreative\nWe look forward to exploring creativity with you this summer! Any questions please call: 07718 106953 or email youth@bricksbristol.org
URL:https://stanneshouse.org/whats-on/storytelling-from-collage-for-13-16-year-olds-with-eli-lower/
LOCATION:St Anne’s House\, St Anne's House\, Bristol\, BS4 4AB\, United Kingdom
CATEGORIES:Young People
ATTACH;FMTTYPE=image/png:https://stanneshouse.org/wp-content/uploads/2023/07/Eli-Lower-01.png
END:VEVENT
END:VCALENDAR