BEGIN:VCALENDAR
VERSION:2.0
PRODID:-//St Anne&#039;s House - ECPv6.15.20//NONSGML v1.0//EN
CALSCALE:GREGORIAN
METHOD:PUBLISH
X-ORIGINAL-URL:https://stanneshouse.org
X-WR-CALDESC:Events for St Anne&#039;s House
REFRESH-INTERVAL;VALUE=DURATION:PT1H
X-Robots-Tag:noindex
X-PUBLISHED-TTL:PT1H
BEGIN:VTIMEZONE
TZID:Europe/London
BEGIN:DAYLIGHT
TZOFFSETFROM:+0000
TZOFFSETTO:+0100
TZNAME:BST
DTSTART:20250330T010000
END:DAYLIGHT
BEGIN:STANDARD
TZOFFSETFROM:+0100
TZOFFSETTO:+0000
TZNAME:GMT
DTSTART:20251026T010000
END:STANDARD
BEGIN:DAYLIGHT
TZOFFSETFROM:+0000
TZOFFSETTO:+0100
TZNAME:BST
DTSTART:20260329T010000
END:DAYLIGHT
BEGIN:STANDARD
TZOFFSETFROM:+0100
TZOFFSETTO:+0000
TZNAME:GMT
DTSTART:20261025T010000
END:STANDARD
BEGIN:DAYLIGHT
TZOFFSETFROM:+0000
TZOFFSETTO:+0100
TZNAME:BST
DTSTART:20270328T010000
END:DAYLIGHT
BEGIN:STANDARD
TZOFFSETFROM:+0100
TZOFFSETTO:+0000
TZNAME:GMT
DTSTART:20271031T010000
END:STANDARD
END:VTIMEZONE
BEGIN:VEVENT
DTSTART;TZID=Europe/London:20260430T180000
DTEND;TZID=Europe/London:20260430T203000
DTSTAMP:20260420T003702
CREATED:20260415T141749Z
LAST-MODIFIED:20260415T141909Z
UID:10018619-1777572000-1777581000@stanneshouse.org
SUMMARY:Life Sculpting Workshop (Taster Sessions)
DESCRIPTION:
URL:https://stanneshouse.org/whats-on/life-sculpting-workshop-taster-sessions/2026-04-30/
CATEGORIES:Creative,Events
END:VEVENT
BEGIN:VEVENT
DTSTART;TZID=Europe/London:20260430T180000
DTEND;TZID=Europe/London:20260430T210000
DTSTAMP:20260420T003702
CREATED:20260330T132650Z
LAST-MODIFIED:20260401T100629Z
UID:10018052-1777572000-1777582800@stanneshouse.org
SUMMARY:The Community Pottery X CIBOMATTO: PASTA PATERA
DESCRIPTION:Get ready for the hands-on collab of your dreams: a two-part workshop where clay meets cuisine. \nPart 1: Craft your very own pasta bowl with the team at The Community Pottery. \nPart 2 (two weeks later): Fill that bowl with fresh\, handmade pasta\, prepared and devoured alongside Cibomatto. \nLeave with a one-of-a-kind bowl\, a happy belly\, and a full heart. \nDates:\n30th April\, 6pm – 9pm – Crafting your very own ceramic Pasta Bowl\n14th May\, 6pm – 9pm – Making and devouring hand made pasta from your very own ceramic pasta bowl.
URL:https://stanneshouse.org/whats-on/the-community-pottery-x-cibomatto-pasta-patera/2026-04-30/
CATEGORIES:Cafe,Creative,Events
ATTACH;FMTTYPE=image/webp:https://stanneshouse.org/wp-content/uploads/2026/03/IMG_7150.webp
END:VEVENT
BEGIN:VEVENT
DTSTART;TZID=Europe/London:20260430T190000
DTEND;TZID=Europe/London:20260430T220000
DTSTAMP:20260420T003702
CREATED:20260107T094412Z
LAST-MODIFIED:20260330T131246Z
UID:10016116-1777575600-1777586400@stanneshouse.org
SUMMARY:Friendly Neighbourhood Film Night
DESCRIPTION:Join us for another Thursday night film club at St Anne’s House — a relaxed evening to unwind\, chat\, and enjoy a great film with neighbours and friends. Expect a cosy setup\, friendly faces\, and space to stay for conversation after the film. \nHosted by Friendly Neighbourhood Films\, a social film club and collaborative project by curators and creative producers Dáire Carson and Alison Jones\, the series celebrates connection through cinema and shared stories on screen. \nThis month’s film TBC
URL:https://stanneshouse.org/whats-on/friendly-neighbourhood-film-night-2/2026-04-30/
LOCATION:St Anne’s House\, St Anne's House\, Bristol\, BS4 4AB\, United Kingdom
CATEGORIES:Events
END:VEVENT
END:VCALENDAR