BEGIN:VCALENDAR
VERSION:2.0
PRODID:-//St Anne&#039;s House - ECPv6.15.20//NONSGML v1.0//EN
CALSCALE:GREGORIAN
METHOD:PUBLISH
X-ORIGINAL-URL:https://stanneshouse.org
X-WR-CALDESC:Events for St Anne&#039;s House
REFRESH-INTERVAL;VALUE=DURATION:PT1H
X-Robots-Tag:noindex
X-PUBLISHED-TTL:PT1H
BEGIN:VTIMEZONE
TZID:Europe/London
BEGIN:DAYLIGHT
TZOFFSETFROM:+0000
TZOFFSETTO:+0100
TZNAME:BST
DTSTART:20250330T010000
END:DAYLIGHT
BEGIN:STANDARD
TZOFFSETFROM:+0100
TZOFFSETTO:+0000
TZNAME:GMT
DTSTART:20251026T010000
END:STANDARD
BEGIN:DAYLIGHT
TZOFFSETFROM:+0000
TZOFFSETTO:+0100
TZNAME:BST
DTSTART:20260329T010000
END:DAYLIGHT
BEGIN:STANDARD
TZOFFSETFROM:+0100
TZOFFSETTO:+0000
TZNAME:GMT
DTSTART:20261025T010000
END:STANDARD
BEGIN:DAYLIGHT
TZOFFSETFROM:+0000
TZOFFSETTO:+0100
TZNAME:BST
DTSTART:20270328T010000
END:DAYLIGHT
BEGIN:STANDARD
TZOFFSETFROM:+0100
TZOFFSETTO:+0000
TZNAME:GMT
DTSTART:20271031T010000
END:STANDARD
END:VTIMEZONE
BEGIN:VEVENT
DTSTART;TZID=Europe/London:20260423T100000
DTEND;TZID=Europe/London:20260423T120000
DTSTAMP:20260421T013308
CREATED:20221215T113542Z
LAST-MODIFIED:20240912T081526Z
UID:10000575-1776938400-1776945600@stanneshouse.org
SUMMARY:Morning Meet-ups
DESCRIPTION:Join in our regular morning socials\, with mixed creative activities and a chance to chat to new people.\nThese meet ups are open to everyone\, it’s a great couple of hours to drop in and get to know those who live nearby over a free cuppa. If you have a creative skill you want to share with the group\, get in touch! \nFree\, just turn up.  \nFor more updates and info on sessions and activities like this\, as well as updates\, news\, and opportunities\, sign up to St Anne’s House newsletter here.
URL:https://stanneshouse.org/whats-on/morning-meet-ups/2026-04-23/
LOCATION:St Anne’s House\, St Anne's House\, Bristol\, BS4 4AB\, United Kingdom
CATEGORIES:Drop ins
ATTACH;FMTTYPE=image/jpeg:https://stanneshouse.org/wp-content/uploads/2022/02/IMG_4176-scaled.jpg
END:VEVENT
BEGIN:VEVENT
DTSTART;TZID=Europe/London:20260423T130000
DTEND;TZID=Europe/London:20260423T140000
DTSTAMP:20260421T013308
CREATED:20260106T140725Z
LAST-MODIFIED:20260106T140725Z
UID:10015131-1776949200-1776952800@stanneshouse.org
SUMMARY:ESOL Conversation Club
DESCRIPTION:Come and speak English in a relaxed environment. Build confidence and chat with others in a welcoming space. \nNo need to sign up\, just turn up. We meet in Cibomatto cafe. \nAny questions please contact Aggie esolconversationclubs@bristol.gov.uk or call 07768500673
URL:https://stanneshouse.org/whats-on/esol-conversation-club-2/2026-04-23/
LOCATION:St Anne’s House\, St Anne's House\, Bristol\, BS4 4AB\, United Kingdom
CATEGORIES:Classes,Drop ins
ATTACH;FMTTYPE=image/png:https://stanneshouse.org/wp-content/uploads/2025/10/5-e1760545267379.png
END:VEVENT
BEGIN:VEVENT
DTSTART;TZID=Europe/London:20260423T160000
DTEND;TZID=Europe/London:20260423T173000
DTSTAMP:20260421T013308
CREATED:20250728T140223Z
LAST-MODIFIED:20250728T140223Z
UID:10014317-1776960000-1776965400@stanneshouse.org
SUMMARY:4 O'Clock Club – Kids
DESCRIPTION:A self-led space for parents and children after school. Use our community living room to read\, play and craft. \n4pm-5.30pm\, free to attend\, just drop in. \nDates for 2025\, Every other Thursday: \nThursday 11 September\nThursday 25 September\nThursday 09 October\nThursday 23 October\nThursday 06 November\nThursday 20 November\nThursday 4 December\nThursday 18 December \nDates for 2026\nThursday 15 January\nThursday 29 January\nThursday 12 February\nThursday 26 February\nThursday 12 March\nThursday 26 March
URL:https://stanneshouse.org/whats-on/4-oclock-club-kids/2026-04-23/
LOCATION:St Anne’s House\, St Anne's House\, Bristol\, BS4 4AB\, United Kingdom
CATEGORIES:Drop ins
ATTACH;FMTTYPE=image/jpeg:https://stanneshouse.org/wp-content/uploads/2025/05/DSC_8020-scaled.jpg
END:VEVENT
END:VCALENDAR