BEGIN:VCALENDAR
VERSION:2.0
PRODID:-//St Anne&#039;s House - ECPv6.15.20//NONSGML v1.0//EN
CALSCALE:GREGORIAN
METHOD:PUBLISH
X-WR-CALNAME:St Anne&#039;s House
X-ORIGINAL-URL:https://stanneshouse.org
X-WR-CALDESC:Events for St Anne&#039;s House
REFRESH-INTERVAL;VALUE=DURATION:PT1H
X-Robots-Tag:noindex
X-PUBLISHED-TTL:PT1H
BEGIN:VTIMEZONE
TZID:Europe/London
BEGIN:DAYLIGHT
TZOFFSETFROM:+0000
TZOFFSETTO:+0100
TZNAME:BST
DTSTART:20250330T010000
END:DAYLIGHT
BEGIN:STANDARD
TZOFFSETFROM:+0100
TZOFFSETTO:+0000
TZNAME:GMT
DTSTART:20251026T010000
END:STANDARD
BEGIN:DAYLIGHT
TZOFFSETFROM:+0000
TZOFFSETTO:+0100
TZNAME:BST
DTSTART:20260329T010000
END:DAYLIGHT
BEGIN:STANDARD
TZOFFSETFROM:+0100
TZOFFSETTO:+0000
TZNAME:GMT
DTSTART:20261025T010000
END:STANDARD
BEGIN:DAYLIGHT
TZOFFSETFROM:+0000
TZOFFSETTO:+0100
TZNAME:BST
DTSTART:20270328T010000
END:DAYLIGHT
BEGIN:STANDARD
TZOFFSETFROM:+0100
TZOFFSETTO:+0000
TZNAME:GMT
DTSTART:20271031T010000
END:STANDARD
END:VTIMEZONE
BEGIN:VEVENT
DTSTART;VALUE=DATE:20260209
DTEND;VALUE=DATE:20260216
DTSTAMP:20260420T085956
CREATED:20241003T121714Z
LAST-MODIFIED:20241003T121714Z
UID:10013063-1770595200-1771199999@stanneshouse.org
SUMMARY:The Community Pottery Open
DESCRIPTION:The Community Pottery CIC is St Anne’s House hub for hand-building\, wheel throwing\, and sculptural techniques. Founded by artists Raphaela and Dan\, our mission is to bring the joy of pottery to diverse communities across Bristol. Whether you’re a complete beginner or an experienced artist\, we offer a variety of creative workshops and studio memberships to help you explore the art of pottery in a welcoming and inclusive environment. \nVisit their website for courses\, workshops\, and memberships here.
URL:https://stanneshouse.org/whats-on/the-community-pottery-open/2026-02-09/
LOCATION:St Anne’s House\, St Anne's House\, Bristol\, BS4 4AB\, United Kingdom
CATEGORIES:Classes
ATTACH;FMTTYPE=image/jpeg:https://stanneshouse.org/wp-content/uploads/2024/10/Community-Potter-1-Oct-2024-Credit_-Ruby-Turner-9-scaled.jpg
END:VEVENT
BEGIN:VEVENT
DTSTART;TZID=Europe/London:20260214T110000
DTEND;TZID=Europe/London:20260214T133000
DTSTAMP:20260420T085956
CREATED:20241210T120800Z
LAST-MODIFIED:20260122T163919Z
UID:10016963-1771066800-1771075800@stanneshouse.org
SUMMARY:Bristol Bluegrass Workshop
DESCRIPTION:Learn banjo\, guitar\, mandolin\, and double bass with members of one of the UK’s best-known Bluegrass band Old Baby Mackerel. Tutors Sam Garrard\, Abbey Thomas\, Rory Francis and Sadie Morningstar have years of playing and teaching experience and will help you play a tune in time with other musicians\, no matter your playing level. \nIn the workshop you will explore new techniques and approaches\, get feedback on your playing and get the chance to meet and play with other musicians. By the end of the workshop all four instruments will be playing together in pairs\, small groups and as a class. \nFor banjo players there is option to choose either three-finger or a clawhammer styles and for guitar you can focus on rhythm\, lead or a mix of both. Mandolinists will focus on chopping and lead and double bassists will explore Bluegrass specific techniques and elements of timing unique to the genre. These workshops offer an opportunity to develop your knowledge of Bluegrass techniques in a supportive\, real-world setting. \nTime: 11:00 AM – 1:30 PM (with a break for tea\, coffee\, and biscuits) \nCost: £40 per person\, payable in advance via the booking form: here. \n“Our workshops focus on playing together in time\, an essential musical skill that’s hard to master alone or through online tutorials. Each session\, we dive into a new tune\, exploring different approaches to playing melody and backup. Each instrument will have the chance to practice in pairs\, small groups\, and as a larger group\, enhancing your ability to play in time with others and practise active listening whilst playing.” – Sam. \nFor more information you can email Sam at banjoworkshops@gmail.com. (Sam is a hire at St Anne’s House\, so any questions please reach out to him directly).\nStay connected and see what we’re up to by following us on Facebook and Instagram\, where they share photos and videos from the sessions! \nSam Garrard – Banjo\nhttps://banjoclasses.com \nhttps://www.facebook.com/banjolesson \n@banjoclasses on Instagram \nAbbey Thomas – Mandolin\n@abbeytthomasmusician on Facebook\, Instagram\, Youtube \nRory Francis – Guitar\n@rory_francis on Instagram \nSadie Morningstar – Double Bass\n@sadie.morningstar on Instagram
URL:https://stanneshouse.org/whats-on/bristol-bluegrass-workshop-2/2026-02-14/
LOCATION:St Anne’s House\, St Anne's House\, Bristol\, BS4 4AB\, United Kingdom
CATEGORIES:Classes
ATTACH;FMTTYPE=image/jpeg:https://stanneshouse.org/wp-content/uploads/2024/08/Banjo-August-2024-1.jpg
END:VEVENT
BEGIN:VEVENT
DTSTART;TZID=Europe/London:20260214T150000
DTEND;TZID=Europe/London:20260214T170000
DTSTAMP:20260420T085956
CREATED:20260204T113020Z
LAST-MODIFIED:20260204T113038Z
UID:10017603-1771081200-1771088400@stanneshouse.org
SUMMARY:Hearty Arty Party with United Models Life Drawing
DESCRIPTION:Still feeling a little stuck in the January blues? In need an uplifting event to bring you some joy? Come along to St Anne’s House to celebrate and collaborate with United Models! \nExpect clothed life drawing poses\, collaborative drawing exercises\, and plenty of silliness. Come alone\, with a friend\, a partner or your family. All materials will be provided\, you only need to bring yourself. \nUnited Models Life Drawing are celebrating our 9th birthday. We set up our sessions on the 14th February 2017 and have since hosted regular sessions in and around Stokes Croft. \nFrom January 2026 we will be hosting monthly life drawing sessions at St Anne’s House. We are really keen to connect with\, and support\, the established community at St Anne’s House\, as well as making new connections. \nOther events happening in the building on 14th February: \nCibomatto Social Club from 19:00-23:00\nhttps://www.headfirstbristol.co.uk/whats-on/st-anne-s-house-community-and-creative-hub/sat-14-feb-cibomatto-social-club-146675#e146675 \nCommunity Pottery Lonely Arts Club from 18:00-20:00\nhttps://www.thecommunitypottery.co.uk/products/the-lonely-arts-club-2026 \nEntry requirements: no age restrictions (under 18s to be accompanied by an adult over 21yrs\, 1:1 ratio)
URL:https://stanneshouse.org/whats-on/hearty-arty-party-with-united-models-life-drawing/
CATEGORIES:Classes,Creative,Events
ATTACH;FMTTYPE=image/jpeg:https://stanneshouse.org/wp-content/uploads/2026/02/HeartyArtyParty_insta.jpg
END:VEVENT
END:VCALENDAR